BEGIN:VCALENDAR
VERSION:2.0
PRODID:-//wp-events-plugin.com//6.6.3//EN
TZID:Europe/Rome
X-WR-TIMEZONE:Europe/Rome
BEGIN:VEVENT
UID:0-13@duomosantamaria.diocesitn.it
DTSTART;TZID=Europe/Rome:20210222T170000
DTEND;TZID=Europe/Rome:20210222T170000
DTSTAMP:20210214T152444Z
URL:https://duomosantamaria.diocesitn.it/events/quaresima-in-ascolto-della
 -parola/
SUMMARY:Quaresima in ascolto della Parola
DESCRIPTION:Lectio con l’Ac - ABBRACCIARE\nNella Chiesa di S.Maria\, uno 
 spazio di ascolto e riflessione sulla Parola di Dio
END:VEVENT
BEGIN:VTIMEZONE
TZID:Europe/Rome
X-LIC-LOCATION:Europe/Rome
BEGIN:STANDARD
DTSTART:20201025T020000
TZOFFSETFROM:+0200
TZOFFSETTO:+0100
TZNAME:CET
END:STANDARD
END:VTIMEZONE
END:VCALENDAR