BEGIN:VCALENDAR
VERSION:2.0
PRODID:-//wp-events-plugin.com//6.6.3//EN
TZID:Europe/Rome
X-WR-TIMEZONE:Europe/Rome
BEGIN:VEVENT
UID:0-16@duomosantamaria.diocesitn.it
DTSTART;TZID=Europe/Rome:20210316T183000
DTEND;TZID=Europe/Rome:20210316T183000
DTSTAMP:20210214T152704Z
URL:https://duomosantamaria.diocesitn.it/events/quaresima-in-ascolto-della
 -parola-4/
SUMMARY:Quaresima in ascolto della Parola
DESCRIPTION:Lectio sul vangelo della domenica: Gv.12\,20-33\nNella Chiesa d
 i S.Maria\, uno spazio di ascolto e riflessione sulla Parola di Dio
END:VEVENT
BEGIN:VTIMEZONE
TZID:Europe/Rome
X-LIC-LOCATION:Europe/Rome
BEGIN:STANDARD
DTSTART:20201025T020000
TZOFFSETFROM:+0200
TZOFFSETTO:+0100
TZNAME:CET
END:STANDARD
END:VTIMEZONE
END:VCALENDAR