BEGIN:VCALENDAR
VERSION:2.0
PRODID:-//wp-events-plugin.com//6.6.3//EN
TZID:Europe/Rome
X-WR-TIMEZONE:Europe/Rome
BEGIN:VEVENT
UID:0-2@duomosantamaria.diocesitn.it
DTSTART;TZID=Europe/Rome:20200226T170000
DTEND;TZID=Europe/Rome:20200226T170000
DTSTAMP:20200221T091633Z
URL:https://duomosantamaria.diocesitn.it/events/celebrazione-delle-ceneri/
SUMMARY:Celebrazione delle Ceneri
DESCRIPTION:Ceneri: S.Maria ore 17
END:VEVENT
BEGIN:VTIMEZONE
TZID:Europe/Rome
X-LIC-LOCATION:Europe/Rome
BEGIN:STANDARD
DTSTART:20191027T020000
TZOFFSETFROM:+0200
TZOFFSETTO:+0100
TZNAME:CET
END:STANDARD
END:VTIMEZONE
END:VCALENDAR